BEGIN:VCALENDAR
VERSION:2.0
PRODID:-//European DBT Association - ECPv6.15.17//NONSGML v1.0//EN
CALSCALE:GREGORIAN
METHOD:PUBLISH
X-ORIGINAL-URL:https://edbta.eu
X-WR-CALDESC:Events for European DBT Association
REFRESH-INTERVAL;VALUE=DURATION:PT1H
X-Robots-Tag:noindex
X-PUBLISHED-TTL:PT1H
BEGIN:VTIMEZONE
TZID:Europe/Amsterdam
BEGIN:DAYLIGHT
TZOFFSETFROM:+0100
TZOFFSETTO:+0200
TZNAME:CEST
DTSTART:20240331T010000
END:DAYLIGHT
BEGIN:STANDARD
TZOFFSETFROM:+0200
TZOFFSETTO:+0100
TZNAME:CET
DTSTART:20241027T010000
END:STANDARD
BEGIN:DAYLIGHT
TZOFFSETFROM:+0100
TZOFFSETTO:+0200
TZNAME:CEST
DTSTART:20250330T010000
END:DAYLIGHT
BEGIN:STANDARD
TZOFFSETFROM:+0200
TZOFFSETTO:+0100
TZNAME:CET
DTSTART:20251026T010000
END:STANDARD
BEGIN:DAYLIGHT
TZOFFSETFROM:+0100
TZOFFSETTO:+0200
TZNAME:CEST
DTSTART:20260329T010000
END:DAYLIGHT
BEGIN:STANDARD
TZOFFSETFROM:+0200
TZOFFSETTO:+0100
TZNAME:CET
DTSTART:20261025T010000
END:STANDARD
BEGIN:DAYLIGHT
TZOFFSETFROM:+0100
TZOFFSETTO:+0200
TZNAME:CEST
DTSTART:20270328T010000
END:DAYLIGHT
BEGIN:STANDARD
TZOFFSETFROM:+0200
TZOFFSETTO:+0100
TZNAME:CET
DTSTART:20271031T010000
END:STANDARD
END:VTIMEZONE
BEGIN:VEVENT
DTSTART;TZID=Europe/Amsterdam:20260401T190000
DTEND;TZID=Europe/Amsterdam:20260401T200000
DTSTAMP:20260422T205717
CREATED:20260116T142013Z
LAST-MODIFIED:20260116T151930Z
UID:2317-1775070000-1775073600@edbta.eu
SUMMARY:Mechanisms of change - Shelley McMain
DESCRIPTION:
URL:https://edbta.eu/event/mechanisms-of-change-shelley-mcmain/
CATEGORIES:Webinars
END:VEVENT
BEGIN:VEVENT
DTSTART;TZID=Europe/Amsterdam:20260304T190000
DTEND;TZID=Europe/Amsterdam:20260304T200000
DTSTAMP:20260422T205717
CREATED:20260116T141726Z
LAST-MODIFIED:20260223T170313Z
UID:2315-1772650800-1772654400@edbta.eu
SUMMARY:Real Skills for real Life I Shireen L. Rizvi I March 04\, 2026
DESCRIPTION:Skills for (Extra)Ordinary Living\nPromoting DBT Skills for Everyday LifeWith Shireen RizviMarch 4\, 2026 | 19:00 CETLive online at edbta.eu/live \nThe European DBT Association invites you to a live webinar with Dr. Shireen Rizvi\, a leading expert in Dialectical Behavior Therapy (DBT)\, for an inspiring and practical session on bringing DBT skills into everyday life. \nIn Skills for (Extra)Ordinary Living\, Dr. Rizvi will explore how science-based DBT skills can move beyond therapy settings and become powerful tools for daily living. Whether managing intense emotions\, navigating relationship challenges\, coping with crises\, or simply striving for greater balance and confidence\, DBT offers clear and actionable strategies that anyone can use. \nDrawing from her extensive clinical\, research\, and teaching experience—including her leadership roles at Montefiore Einstein and over 15 years as a professor at Rutgers University—Dr. Rizvi will share insights from her work expanding access to DBT skills. The webinar will also highlight resources such as her book Real Skills for Real Life and widely used educational materials designed to make DBT accessible\, practical\, and engaging. \nParticipants will gain: \n\n\nAn overview of core DBT skills such as Wise Mind\, Validation\, Problem Solving\, and Radical Acceptance \n\n\nPractical examples of how to apply these skills in real-world situations \n\n\nGuidance on helping clients—and ourselves—choose where to begin \n\n\nInspiration for promoting DBT skills beyond traditional clinical contexts \n\n\nJoin us for an engaging evening dedicated to building skills for both the ordinary and extraordinary moments of life.
URL:https://edbta.eu/event/real-skills-for-real-life-shireen-l-rizvi/
LOCATION:Online
CATEGORIES:Webinars
END:VEVENT
BEGIN:VEVENT
DTSTART;TZID=Europe/Amsterdam:20260204T190000
DTEND;TZID=Europe/Amsterdam:20260204T200000
DTSTAMP:20260422T205717
CREATED:20260116T094624Z
LAST-MODIFIED:20260204T074927Z
UID:2309-1770231600-1770235200@edbta.eu
SUMMARY:How to prioritize self-harm in therapy - Shelley McMain & Lars Mehlum
DESCRIPTION:
URL:https://edbta.eu/event/how-to-prioritize-self-harm-in-therapy-shelley-mcmain-lars-mehlum/
CATEGORIES:Webinars
END:VEVENT
BEGIN:VEVENT
DTSTART;TZID=Europe/Amsterdam:20251207T190000
DTEND;TZID=Europe/Amsterdam:20251207T203000
DTSTAMP:20260422T205717
CREATED:20250625T132050Z
LAST-MODIFIED:20251128T064830Z
UID:1178-1765134000-1765139400@edbta.eu
SUMMARY:Zacharias Rosenthal – Therapy Interfering Processes
DESCRIPTION:
URL:https://edbta.eu/event/zacharias-rosenthal-therapy-interferring-behaviour-in-dbt/
CATEGORIES:Webinars
END:VEVENT
BEGIN:VEVENT
DTSTART;TZID=Europe/Amsterdam:20251102T190000
DTEND;TZID=Europe/Amsterdam:20251102T203000
DTSTAMP:20260422T205717
CREATED:20250625T132015Z
LAST-MODIFIED:20250905T105943Z
UID:1176-1762110000-1762115400@edbta.eu
SUMMARY:Charlie Swenson – Dialectics in DBT
DESCRIPTION:
URL:https://edbta.eu/event/charlie-swenson-dialectics-in-dbt/
CATEGORIES:Webinars
END:VEVENT
BEGIN:VEVENT
DTSTART;TZID=Europe/Amsterdam:20251005T190000
DTEND;TZID=Europe/Amsterdam:20251005T203000
DTSTAMP:20260422T205717
CREATED:20250625T131934Z
LAST-MODIFIED:20250905T105943Z
UID:1174-1759690800-1759696200@edbta.eu
SUMMARY:Christian Schmahl – Neurobiology of BPD
DESCRIPTION:
URL:https://edbta.eu/event/christian-schmahl-neurobiology-of-bpd/
CATEGORIES:Webinars
END:VEVENT
BEGIN:VEVENT
DTSTART;TZID=Europe/Amsterdam:20250907T190000
DTEND;TZID=Europe/Amsterdam:20250907T203000
DTSTAMP:20260422T205717
CREATED:20250625T131903Z
LAST-MODIFIED:20250905T105943Z
UID:1172-1757271600-1757277000@edbta.eu
SUMMARY:Joaquim Soler – Compassion in DBT
DESCRIPTION:About this webinar\, Joaquim writes: “I don’t know if most people are aware that one process that has been identified as very relevant in the improvement of people who underwent an 8-week mindfulness-based cognitive therapy treatment is self-compassion. What’s surprising is that MBCT does not explicitly include any session\, materials\, or meditations focused on compassion. So\, where does the increase in self-compassion come from? \nProbably because it is implicit\, embedded as a foundational attitude in the instructors’ interactions with participants. I believe something similar happens in DBT. However\, we also know that when compassion is taught explicitly – as in Compassion Focused Therapy – it effects can be even stronger. \nThis is my goal: to expand and make explicit something that is already present in DBT. We already did this with dialectical thinking\, which was once only modeled by therapists but is now an explicit theme in the Middle Path module. Patients can now learn to apply dialectical thinking directly\, rather than simply absorbing it through observation. \nIn addition\, self-criticism and self-invalidation are terms that\, without having the same meaning\, have a lot of overlap. The inclusion of loving-kindness and compassion training in the skills training program for BPD would aim to decrease self-invalidation and achieve an additional skill to acceptance in coping with pain or promoting positive emotions. \nNotice that a wise mind driven action could not be really “wise” without compassion\, and some other skills\, such the encouragement skill or the practice of contribution are also driven by it. Additionally\, in the revised version of skills manual\, loving-kindness meditations have been added in some expanded versions of the mindfulness module. While elements of compassion are already present in DBT many people with BPD struggle with self-compassion. For this reason\, a more explicit and structured focus may be necessary to help them develop this powerful skill\, which could ultimately enhance treatment outcomes.”
URL:https://edbta.eu/event/joquim-soler-compassion-in-dbt/
CATEGORIES:Webinars
ATTACH;FMTTYPE=image/png:https://edbta.eu/wp-content/uploads/2025/06/Post-Joaquim.png
END:VEVENT
BEGIN:VEVENT
DTSTART;TZID=Europe/Amsterdam:20250803T190000
DTEND;TZID=Europe/Amsterdam:20250803T203000
DTSTAMP:20260422T205717
CREATED:20250625T131754Z
LAST-MODIFIED:20250905T105943Z
UID:1169-1754247600-1754253000@edbta.eu
SUMMARY:Fragiscos Gonidakis – DBT in Eating Disorders
DESCRIPTION:In his webinar Fragiskos will focus on practical strategies for clinicians. He will explore how to adjust standard DBT protocols when working with clients who present with serious eating disorder symptoms. Session will offer insight into how to meet the needs of this high-risk\, hard-to-treat population using DBT’s flexible\, principle-based approach. \nWhile standard DBT was originally developed for chronic suicidality and BPD\, growing evidence supports its effectiveness for individuals with comorbid eating disorders\, particularly when emotional dysregulation\, impulsivity\, and interpersonal difficulties are central features. These clients often struggle with high ambivalence about change\, intense shame\, and difficulties with body image and identity. Factors that can undermine traditional ED treatments. DBT offers a structured framework to build motivation\, reduce life-threatening behaviors (such as severe restriction or binge-purge cycles)\, and target the emotional and cognitive patterns that maintain disordered eating. \nFragiskos will address how to prioritize treatment targets\, modify skills training to address ED-specific behaviors\, and support clients in tolerating distress without using food-related coping. His experience working at the intersection of BPD and eating disorders makes this a valuable session for clinicians seeking guidance on one of the most challenging dual-diagnosis presentations.
URL:https://edbta.eu/event/fragiscos-gonidakis-dbt-in-eating-disorders/
CATEGORIES:Webinars
ATTACH;FMTTYPE=image/png:https://edbta.eu/wp-content/uploads/2025/06/White-Minimal-Testimonial-Instagram-Post-kopija-9.png
END:VEVENT
BEGIN:VEVENT
DTSTART;TZID=Europe/Amsterdam:20250706T190000
DTEND;TZID=Europe/Amsterdam:20250706T203000
DTSTAMP:20260422T205717
CREATED:20250625T122309Z
LAST-MODIFIED:20250905T105943Z
UID:1149-1751828400-1751833800@edbta.eu
SUMMARY:Julieta Azevedo – DBT in bipolar disorders
DESCRIPTION:Julieta will explore how DBT principles—particularly the biosocial model—apply to bipolar disorder and why DBT offers a meaningful framework for treatment. Julieta will: \n\nShare key adaptations of DBT for working with bipolar disorder\nIntroduce Bi-REAL\, a 12-session DBT skills-based intervention she developed and piloted\nPresent clinical tools and materials that support tailored DBT delivery for mood disorders\nOffer insights into current research and future directions in this evolving area\n\nWhether you’re a DBT therapist\, team lead\, or researcher\, this webinar offers valuable insight into how DBT can be thoughtfully and effectively extended to support those living with bipolar disorder.
URL:https://edbta.eu/event/julieta-azevedo-dbt-in-bipolar-disorders/
CATEGORIES:Webinars
ATTACH;FMTTYPE=image/png:https://edbta.eu/wp-content/uploads/2025/06/White-Minimal-Testimonial-Instagram-Post-kopija-8.png
END:VEVENT
END:VCALENDAR