BEGIN:VCALENDAR
VERSION:2.0
PRODID:-//European DBT Association - ECPv6.15.17//NONSGML v1.0//EN
CALSCALE:GREGORIAN
METHOD:PUBLISH
X-WR-CALNAME:European DBT Association
X-ORIGINAL-URL:https://edbta.eu
X-WR-CALDESC:Events for European DBT Association
REFRESH-INTERVAL;VALUE=DURATION:PT1H
X-Robots-Tag:noindex
X-PUBLISHED-TTL:PT1H
BEGIN:VTIMEZONE
TZID:Europe/Amsterdam
BEGIN:DAYLIGHT
TZOFFSETFROM:+0100
TZOFFSETTO:+0200
TZNAME:CEST
DTSTART:20250330T010000
END:DAYLIGHT
BEGIN:STANDARD
TZOFFSETFROM:+0200
TZOFFSETTO:+0100
TZNAME:CET
DTSTART:20251026T010000
END:STANDARD
BEGIN:DAYLIGHT
TZOFFSETFROM:+0100
TZOFFSETTO:+0200
TZNAME:CEST
DTSTART:20260329T010000
END:DAYLIGHT
BEGIN:STANDARD
TZOFFSETFROM:+0200
TZOFFSETTO:+0100
TZNAME:CET
DTSTART:20261025T010000
END:STANDARD
BEGIN:DAYLIGHT
TZOFFSETFROM:+0100
TZOFFSETTO:+0200
TZNAME:CEST
DTSTART:20270328T010000
END:DAYLIGHT
BEGIN:STANDARD
TZOFFSETFROM:+0200
TZOFFSETTO:+0100
TZNAME:CET
DTSTART:20271031T010000
END:STANDARD
END:VTIMEZONE
BEGIN:VEVENT
DTSTART;VALUE=DATE:20261028
DTEND;VALUE=DATE:20261031
DTSTAMP:20260422T184839
CREATED:20260223T165018Z
LAST-MODIFIED:20260223T165446Z
UID:2516-1793145600-1793404799@edbta.eu
SUMMARY:World DBT Summit I October 28 - October 30
DESCRIPTION:We are excited to share the news of the WDBTA World Summit taking place on the 28-30 October 2026. \n\n\n\n\nThis unique opportunity will provide attendees with the opportunity to connect and share the work of the WDBTA – latest research\, innovations in clinical delivery\, challenges in implementation in low- and middle-income countries\, how to navigate treatment integrity with flexibility in new populations and new contexts\, and much more! \n\n\n\nWith representatives from regional chapters and WDBTA expert committees\, the summit will offer invaluable insights and opportunities for connection across the worldwide DBT community.
URL:https://edbta.eu/event/world-dbt-summit-i-october-28-october-30/
CATEGORIES:Upcoming Events
END:VEVENT
END:VCALENDAR