BEGIN:VCALENDAR
VERSION:2.0
PRODID:-//European DBT Association - ECPv6.15.17//NONSGML v1.0//EN
CALSCALE:GREGORIAN
METHOD:PUBLISH
X-WR-CALNAME:European DBT Association
X-ORIGINAL-URL:https://edbta.eu
X-WR-CALDESC:Events for European DBT Association
REFRESH-INTERVAL;VALUE=DURATION:PT1H
X-Robots-Tag:noindex
X-PUBLISHED-TTL:PT1H
BEGIN:VTIMEZONE
TZID:Europe/Amsterdam
BEGIN:DAYLIGHT
TZOFFSETFROM:+0100
TZOFFSETTO:+0200
TZNAME:CEST
DTSTART:20240331T010000
END:DAYLIGHT
BEGIN:STANDARD
TZOFFSETFROM:+0200
TZOFFSETTO:+0100
TZNAME:CET
DTSTART:20241027T010000
END:STANDARD
BEGIN:DAYLIGHT
TZOFFSETFROM:+0100
TZOFFSETTO:+0200
TZNAME:CEST
DTSTART:20250330T010000
END:DAYLIGHT
BEGIN:STANDARD
TZOFFSETFROM:+0200
TZOFFSETTO:+0100
TZNAME:CET
DTSTART:20251026T010000
END:STANDARD
BEGIN:DAYLIGHT
TZOFFSETFROM:+0100
TZOFFSETTO:+0200
TZNAME:CEST
DTSTART:20260329T010000
END:DAYLIGHT
BEGIN:STANDARD
TZOFFSETFROM:+0200
TZOFFSETTO:+0100
TZNAME:CET
DTSTART:20261025T010000
END:STANDARD
END:VTIMEZONE
BEGIN:VEVENT
DTSTART;TZID=Europe/Amsterdam:20250803T190000
DTEND;TZID=Europe/Amsterdam:20250803T203000
DTSTAMP:20260422T224421
CREATED:20250625T131754Z
LAST-MODIFIED:20250905T105943Z
UID:1169-1754247600-1754253000@edbta.eu
SUMMARY:Fragiscos Gonidakis – DBT in Eating Disorders
DESCRIPTION:In his webinar Fragiskos will focus on practical strategies for clinicians. He will explore how to adjust standard DBT protocols when working with clients who present with serious eating disorder symptoms. Session will offer insight into how to meet the needs of this high-risk\, hard-to-treat population using DBT’s flexible\, principle-based approach. \nWhile standard DBT was originally developed for chronic suicidality and BPD\, growing evidence supports its effectiveness for individuals with comorbid eating disorders\, particularly when emotional dysregulation\, impulsivity\, and interpersonal difficulties are central features. These clients often struggle with high ambivalence about change\, intense shame\, and difficulties with body image and identity. Factors that can undermine traditional ED treatments. DBT offers a structured framework to build motivation\, reduce life-threatening behaviors (such as severe restriction or binge-purge cycles)\, and target the emotional and cognitive patterns that maintain disordered eating. \nFragiskos will address how to prioritize treatment targets\, modify skills training to address ED-specific behaviors\, and support clients in tolerating distress without using food-related coping. His experience working at the intersection of BPD and eating disorders makes this a valuable session for clinicians seeking guidance on one of the most challenging dual-diagnosis presentations.
URL:https://edbta.eu/event/fragiscos-gonidakis-dbt-in-eating-disorders/
CATEGORIES:Webinars
ATTACH;FMTTYPE=image/png:https://edbta.eu/wp-content/uploads/2025/06/White-Minimal-Testimonial-Instagram-Post-kopija-9.png
END:VEVENT
END:VCALENDAR