BEGIN:VCALENDAR
VERSION:2.0
PRODID:-//European DBT Association - ECPv6.15.17//NONSGML v1.0//EN
CALSCALE:GREGORIAN
METHOD:PUBLISH
X-WR-CALNAME:European DBT Association
X-ORIGINAL-URL:https://edbta.eu
X-WR-CALDESC:Events for European DBT Association
REFRESH-INTERVAL;VALUE=DURATION:PT1H
X-Robots-Tag:noindex
X-PUBLISHED-TTL:PT1H
BEGIN:VTIMEZONE
TZID:Europe/Amsterdam
BEGIN:DAYLIGHT
TZOFFSETFROM:+0100
TZOFFSETTO:+0200
TZNAME:CEST
DTSTART:20250330T010000
END:DAYLIGHT
BEGIN:STANDARD
TZOFFSETFROM:+0200
TZOFFSETTO:+0100
TZNAME:CET
DTSTART:20251026T010000
END:STANDARD
BEGIN:DAYLIGHT
TZOFFSETFROM:+0100
TZOFFSETTO:+0200
TZNAME:CEST
DTSTART:20260329T010000
END:DAYLIGHT
BEGIN:STANDARD
TZOFFSETFROM:+0200
TZOFFSETTO:+0100
TZNAME:CET
DTSTART:20261025T010000
END:STANDARD
BEGIN:DAYLIGHT
TZOFFSETFROM:+0100
TZOFFSETTO:+0200
TZNAME:CEST
DTSTART:20270328T010000
END:DAYLIGHT
BEGIN:STANDARD
TZOFFSETFROM:+0200
TZOFFSETTO:+0100
TZNAME:CET
DTSTART:20271031T010000
END:STANDARD
END:VTIMEZONE
BEGIN:VEVENT
DTSTART;TZID=Europe/Amsterdam:20260611T000000
DTEND;TZID=Europe/Amsterdam:20260614T235959
DTSTAMP:20260422T185004
CREATED:20260116T143415Z
LAST-MODIFIED:20260209T143302Z
UID:2322-1781136000-1781481599@edbta.eu
SUMMARY:DBT Mindfulness Retreat | June 11–14\, 2026 – Tuscany\, Italy - SOLD OUT
DESCRIPTION:Download PDF \nJoin an immersive four-day DBT Mindfulness Retreat at the Lama Tzong Khapa Institute in Pomaia (Pisa). Led by Martin Bohus and Jan Glasenapp\, this in-person practical course integrates DBT mindfulness theory with experiential Zen meditation practice. Designed for mental health professionals\, the retreat offers a unique balance of clinical expertise\, personal practice\, and application to therapeutic work. \nPlaces are limited and registration is required in advance—early registration is recommended.  \nRegistration fees: \n\nRegular rate from February 1. 2026 EUR 450 VAT Exempt\n\nCancellation fees: \n\nCancellations made on or before March 13\, 2026 will be refunded with a 50% cancellation fee\nCancellations made from March 14\, 2026 onward are non-refundable.\n\nEvent is booked out
URL:https://edbta.eu/event/dbt-mindfulness-retreat-june-11-14-2026-tuscany-italy/
CATEGORIES:Upcoming Events
ORGANIZER;CN="European DBT Association":MAILTO:dissimination@edbta.eu
END:VEVENT
END:VCALENDAR